BEGIN:VCALENDAR
VERSION:2.0
PRODID:-//Status Plus - ECPv6.15.14//NONSGML v1.0//EN
CALSCALE:GREGORIAN
METHOD:PUBLISH
X-ORIGINAL-URL:https://www.statusplus.com
X-WR-CALDESC:Events for Status Plus
REFRESH-INTERVAL;VALUE=DURATION:PT1H
X-Robots-Tag:noindex
X-PUBLISHED-TTL:PT1H
BEGIN:VTIMEZONE
TZID:America/Chicago
BEGIN:DAYLIGHT
TZOFFSETFROM:-0600
TZOFFSETTO:-0500
TZNAME:CDT
DTSTART:20220313T080000
END:DAYLIGHT
BEGIN:STANDARD
TZOFFSETFROM:-0500
TZOFFSETTO:-0600
TZNAME:CST
DTSTART:20221106T070000
END:STANDARD
BEGIN:DAYLIGHT
TZOFFSETFROM:-0600
TZOFFSETTO:-0500
TZNAME:CDT
DTSTART:20230312T080000
END:DAYLIGHT
BEGIN:STANDARD
TZOFFSETFROM:-0500
TZOFFSETTO:-0600
TZNAME:CST
DTSTART:20231105T070000
END:STANDARD
BEGIN:DAYLIGHT
TZOFFSETFROM:-0600
TZOFFSETTO:-0500
TZNAME:CDT
DTSTART:20240310T080000
END:DAYLIGHT
BEGIN:STANDARD
TZOFFSETFROM:-0500
TZOFFSETTO:-0600
TZNAME:CST
DTSTART:20241103T070000
END:STANDARD
END:VTIMEZONE
BEGIN:VEVENT
DTSTART;VALUE=DATE:20230414
DTEND;VALUE=DATE:20230415
DTSTAMP:20260424T092757
CREATED:20230102T112921Z
LAST-MODIFIED:20230102T112921Z
UID:10000085-1681430400-1681516799@www.statusplus.com
SUMMARY:NVVS Voorjaarscongres
DESCRIPTION:The NVVS Scientific Meeting is a full-day meeting for Sexologists and Health Professionals.
URL:https://www.statusplus.com/event/nvvs-voorjaarscongres-2/
LOCATION:In de Driehoek\, Utrecht\, The Netherlands\, Willemsplantsoen 1c\, Utrecht\, 3511 LA\, Netherlands
CATEGORIES:Exhibition Management,Financial Management,Logistics Management,Marketing & Promotion,NVVS,Onsite Support,Program Management,Registration Services,Sponsor Management
ATTACH;FMTTYPE=image/jpeg:https://www.statusplus.com/wp-content/uploads/2023/01/SP-Website-Overview-Image-NVVS23.jpg
END:VEVENT
END:VCALENDAR