BEGIN:VCALENDAR
VERSION:2.0
PRODID:-//Status Plus - ECPv6.15.14//NONSGML v1.0//EN
CALSCALE:GREGORIAN
METHOD:PUBLISH
X-WR-CALNAME:Status Plus
X-ORIGINAL-URL:https://www.statusplus.com
X-WR-CALDESC:Events for Status Plus
REFRESH-INTERVAL;VALUE=DURATION:PT1H
X-Robots-Tag:noindex
X-PUBLISHED-TTL:PT1H
BEGIN:VTIMEZONE
TZID:Europe/Amsterdam
BEGIN:DAYLIGHT
TZOFFSETFROM:+0100
TZOFFSETTO:+0200
TZNAME:CEST
DTSTART:20250330T010000
END:DAYLIGHT
BEGIN:STANDARD
TZOFFSETFROM:+0200
TZOFFSETTO:+0100
TZNAME:CET
DTSTART:20251026T010000
END:STANDARD
BEGIN:DAYLIGHT
TZOFFSETFROM:+0100
TZOFFSETTO:+0200
TZNAME:CEST
DTSTART:20260329T010000
END:DAYLIGHT
BEGIN:STANDARD
TZOFFSETFROM:+0200
TZOFFSETTO:+0100
TZNAME:CET
DTSTART:20261025T010000
END:STANDARD
BEGIN:DAYLIGHT
TZOFFSETFROM:+0100
TZOFFSETTO:+0200
TZNAME:CEST
DTSTART:20270328T010000
END:DAYLIGHT
BEGIN:STANDARD
TZOFFSETFROM:+0200
TZOFFSETTO:+0100
TZNAME:CET
DTSTART:20271031T010000
END:STANDARD
END:VTIMEZONE
BEGIN:VEVENT
DTSTART;VALUE=DATE:20261002
DTEND;VALUE=DATE:20261004
DTSTAMP:20260420T110906
CREATED:20260420T125317Z
LAST-MODIFIED:20260420T125317Z
UID:10000149-1790899200-1791071999@www.statusplus.com
SUMMARY:Lustrumcongres NVVS\, TvS en VVS
DESCRIPTION:Op vrijdag 2 en zaterdag 3 oktober organiseren de Nederlandse Wetenschappelijke Vereniging voor Seksuologie (NVVS)\, het Tijdschrift voor Seksuologie (TvS) en de Vlaamse Vereniging voor Seksuologie (VVS) hun gezamenlijke lustrumcongres in Antwerpen (BE).
URL:https://www.statusplus.com/event/lustrumcongres-nvvs-tvs-en-vvs/
LOCATION:KAVA Congres Centrum (KCC)\, Consciencestraat 41\, Antwerpen\, Belgium
CATEGORIES:Exhibition Management,Financial Management,Fiscal Management,Logistics Management,Marketing & Promotion,NVVS,Onsite Support,Program Management,Registration Services,Sponsor Management
ATTACH;FMTTYPE=image/jpeg:https://www.statusplus.com/wp-content/uploads/2026/04/lustrumcongres2026.jpg
ORGANIZER;CN="NVVS":MAILTO:info@nvvs.info
END:VEVENT
END:VCALENDAR