BEGIN:VCALENDAR
VERSION:2.0
PRODID:-//Status Plus - ECPv6.15.14//NONSGML v1.0//EN
CALSCALE:GREGORIAN
METHOD:PUBLISH
X-WR-CALNAME:Status Plus
X-ORIGINAL-URL:https://www.statusplus.com
X-WR-CALDESC:Events for Status Plus
REFRESH-INTERVAL;VALUE=DURATION:PT1H
X-Robots-Tag:noindex
X-PUBLISHED-TTL:PT1H
BEGIN:VTIMEZONE
TZID:America/Chicago
BEGIN:DAYLIGHT
TZOFFSETFROM:-0600
TZOFFSETTO:-0500
TZNAME:CDT
DTSTART:20250309T080000
END:DAYLIGHT
BEGIN:STANDARD
TZOFFSETFROM:-0500
TZOFFSETTO:-0600
TZNAME:CST
DTSTART:20251102T070000
END:STANDARD
BEGIN:DAYLIGHT
TZOFFSETFROM:-0600
TZOFFSETTO:-0500
TZNAME:CDT
DTSTART:20260308T080000
END:DAYLIGHT
BEGIN:STANDARD
TZOFFSETFROM:-0500
TZOFFSETTO:-0600
TZNAME:CST
DTSTART:20261101T070000
END:STANDARD
BEGIN:DAYLIGHT
TZOFFSETFROM:-0600
TZOFFSETTO:-0500
TZNAME:CDT
DTSTART:20270314T080000
END:DAYLIGHT
BEGIN:STANDARD
TZOFFSETFROM:-0500
TZOFFSETTO:-0600
TZNAME:CST
DTSTART:20271107T070000
END:STANDARD
END:VTIMEZONE
BEGIN:VEVENT
DTSTART;VALUE=DATE:20260723
DTEND;VALUE=DATE:20260727
DTSTAMP:20260420T141123
CREATED:20260420T133436Z
LAST-MODIFIED:20260420T134222Z
UID:10000150-1784764800-1785110399@www.statusplus.com
SUMMARY:Advanced Practice Providers Fundamentals Course in Men's Health
DESCRIPTION:This year\, SMSNA will organize the first APP Fundamentals Course in Men’s Health\, taking place from July 23–26\, 2026\, in Minneapolis\, MN\, USA.
URL:https://www.statusplus.com/event/advanced-practice-providers-fundamentals-course-in-mens-health/
LOCATION:The Loften Hotel\, 601 N 1st Ave\, Minneapolis\, MN\, MN 55403\, United States
CATEGORIES:SMSNA
ATTACH;FMTTYPE=image/png:https://www.statusplus.com/wp-content/uploads/2026/04/smsna-app-course.png
ORGANIZER;CN="SMSNA":MAILTO:info@smsna.org
END:VEVENT
END:VCALENDAR